BEGIN:VCALENDAR
VERSION:2.0
PRODID:-//Leftovers - ECPv6.15.20//NONSGML v1.0//EN
CALSCALE:GREGORIAN
METHOD:PUBLISH
X-WR-CALNAME:Leftovers
X-ORIGINAL-URL:https://leftoverscafe.com
X-WR-CALDESC:Events for Leftovers
REFRESH-INTERVAL;VALUE=DURATION:PT1H
X-Robots-Tag:noindex
X-PUBLISHED-TTL:PT1H
BEGIN:VTIMEZONE
TZID:UTC
BEGIN:STANDARD
TZOFFSETFROM:+0000
TZOFFSETTO:+0000
TZNAME:UTC
DTSTART:20230101T000000
END:STANDARD
END:VTIMEZONE
BEGIN:VEVENT
DTSTART;TZID=UTC:20240531T180000
DTEND;TZID=UTC:20240531T210000
DTSTAMP:20260421T103632
CREATED:20240528T224935Z
LAST-MODIFIED:20260225T153542Z
UID:10000003-1717178400-1717189200@leftoverscafe.com
SUMMARY:Mark Telesca
DESCRIPTION:
URL:https://leftoverscafe.com/event/mark-telesca/2024-05-31/
LOCATION:Leftovers Cafe\, 451 University Blvd\, Jupiter\, United States
ATTACH;FMTTYPE=image/jpeg:https://leftoverscafe.com/wp-content/uploads/2024/05/marktelesca.jpg
END:VEVENT
END:VCALENDAR